Workbook

Sheet Explanation and disclaimer
A1: ACT Legislative Assembly Electoral Boundaries Redistribution 2026-27
A2: Current and projected electoral enrolment statistics
A3: The following statistics have been compiled for the 2026-27 redistribution of ACT electoral boundaries in preparation for the 2028 election for the ACT Legislative Assembly. The statistics are shown for localities, generally suburbs, in alphabetical order (Table 1), and according to the electorate in which that locality currently resides (Tables 2 to 6). The locality statistics are also available for viewing, listed according to the specific ACT ‘district’ in which the locality resides, from the Current and projected electoral enrolment statistics spreadsheet available from the 2026-27 redistribution web page at www.elections.act.gov.au/elections/our-electoral-system/electorate-boundaries/redistributions/20262027-redistribution The enrolment projections are derived from population projections and from electoral enrolments as at 31 August 2026. The population projections were calculated using Australian Bureau of Statistics (ABS) projections relating to Localities, based on the Australian Statistical Geography Standard (ASGS) Edition 3, July 2021 The projections were validated against forecasts of new dwellings in growth areas as provided by the ACT Government. This data considers the forecast growth of Canberra’s population due to expected developments between June 2026 and June 2029. The enrolment information used by the ABS in calculating enrolment projections was supplied by the Australian Electoral Commission and the projections are current as at 24 September 2026. The compilation of these projections was undertaken by the ABS as a consultancy project for the ACT Electoral Commission.
A4: Methodology for the projections The projections are based on the cohort-component method, widely accepted as the best way of producing population projections. Annual fertility rates, mortality rates, internal migration and overseas migration by age and sex were applied to a base population to produce a projected population, which then become the base population for projecting the next year and so on. This cycle is repeated until the projected horizon is reached. The ACT population was projected first, then locality populations (based on SA2s), constrained to the ACT-level projections. The base populations are those released by the ABS in National, state and territory population on 17 September 2026 (ACT-level) and Regional population by age and sex on 27 August 2026 (SA2 level). Enrolment counts by locality were projected by applying growth projections of the total 18 and over population to the base enrolment supplied to the ABS by the commission. Complete process: 1. Territory projections: The total ACT population at 30 June 2026 to 30 June 2029 was projected by single year of age and sex, from a base (observed) population at 30 June 2025. 2. Statistical Area Level 2 projections: The total over-18 population of all SA2s In the ACT at 30 June 2026 to 30 June 2029 was projected by single year of age and sex, from a base (observed) population 30 June 2025, and constrained to the Territory level. SA2s map directly to projected localities with the exception of Campbell and Duntroon SA2s that combine to form the Campbell locality. 3. Projected population at the enrolment count date, 31 August 2026, was calculated by linear interpolation between the projected population at 30 June 2026 and 30 June 2027. Projected enrolments at 21 October 2028 were calculated by interpolation between the projected populations at 30 June 2028 and 30 June 2029. Small areas were held constant throughout the projection period. 4. The corresponding projected growth rate for each locality was then applied to the base enrolment to arrive at projected enrolments for 21 Octobre 2028. This assumes no change to each area’s enrolment ratio. 5. Housing projection data provided by ACT government, was also factored in at this stage to guide fast growing areas which may not behave demographically.
A5: Assumptions at the Territory level Assumptions for the territory-level projection were based on both recently observed and long-term trends for given components of population change. The components of births are based on latest published National, state and territory population data, while deaths were based on ABS population projections assumptions. Assumptions for interstate migration used a weighted average of 2014-15 to 2019-20 and 2021-22 to 2024-25 data, with recent years weighed more. Assumptions for overseas migration used an average of 2015-16 to 2024-25 data. Fertility - total fertility rate: 1.27 (2025A), 1.27 (2026), 1.27 (2027), 1.27 (2028), 1.27 (2029) MortalityB - standardised death rate: 5.3 (2025A), 4.4 (2026), 4.4 (2027), 4.4 (2028), 4.3 (2029) Net interstate migration - personsC: -1,100 (2025A), -800 (2026), -500 (2027), -200 (2028), 130 (2029) Net overseas migration - personsC: 4,400 (2025A), 4,300 (2026), 4,200 (2027), 4,100 (2028), 4,000 (2029) A- These are observed from the 18 June 2026 publication of www.abs.gov.au/statistics/people/population/national-state-and-territory-population/latest-release B- Rounded to two decimal places. C- Rounded to the nearest hundred.
A6: Assumptions at the Statistical Area Level 2 level Recent observed SA2-level fertility, mortality and internal and overseas migration was assumed to continue over the projections period, including average levels of internal and migration data from 2021-22 to 2024-25 to reduce volatility in year-by-year data. This method best reflects trends for all areas.
A7: Data and method qulaity The relationship of enrolments to population at 31 August 2026 was held constant over the projection span. However, other quality issues may persist cannot be isolated or quantified. As such, anomalous Localities could be subject to further adjustments. Other Locality anomalous ratios of roll count to population can be explained. These includes areas with; Prisons Secondary and tertiary student accommodation Canberra CBD areas with higher proportion of non-citizens Areas with recorded enrolments but no or little ERP prior to 31 August 2026. Locality boundaries are based SA2s as defined in the Australian Statistical Geography Standard (ASGS) Edition 3, July 2021, as used for the 2021 Census.
A8: Disclaimer It is important to recognise that the projection results in this report reflect the assumptions made about future fertility, mortality and migration trends. While these assumptions are formulated on the basis of an objective assessment of historical demographic trends and their likely future dynamics, there can be no certainty that they will be realised. The ABS takes responsibility for the method employed, however in accordance with ABS policy regarding small area population projections, the assumptions used are the final responsibility of the client, and the projections are not official ABS population statistics. The projections may be referred to as "...projections prepared by the ABS according to assumptions reflecting prevailing trends agreed to by the Australian Capital Territory Electoral Commission". No liability will be accepted by the ABS for any damages arising from decisions or actions based upon this population projection consultancy service

Sheet Table 1 - ACT
A1: Locality | B1: Current electorate | C1: Actual persons enrolled 31 Aug 2026 | D1: Projected persons enrolled 21 Oct 2028 | E1: Percentage change | F1: Projected proportion of the ACT | G1: % of Current quota | H1: % of Projected quota
A2: Acton | B2: Kurrajong | C2: 703 | D2: 704 | E2: =(D2-C2)/C2 -> 0.0014224751 | F2: =D2/D$140 -> 0.0021075005 | G2: =C2/B$142 -> 0.010877201 | H2: =D2/B$143 -> 0.010537502
A3: Ainslie | B3: Kurrajong | C3: 4069 | D3: 4118 | E3: =(D3-C3)/C3 -> 0.012042271 | F3: =D3/D$140 -> 0.01232768 | G3: =C3/B$142 -> 0.062957794 | H3: =D3/B$143 -> 0.061638402
A4: Amaroo | B4: Yerrabi | C4: 4074 | D4: 4168 | E4: =(D4-C4)/C4 -> 0.023073147 | F4: =D4/D$140 -> 0.012477361 | G4: =C4/B$142 -> 0.063035157 | H4: =D4/B$143 -> 0.062386804
A5: Aranda | B5: Ginninderra | C5: 1855 | D5: 1795 | E5: =(D5-C5)/C5 -> -0.032345013 | F5: =D5/D$140 -> 0.0053735275 | G5: =C5/B$142 -> 0.028701575 | H5: =D5/B$143 -> 0.026867638
A6: Banks | B6: Brindabella | C6: 3686 | D6: 3728 | E6: =(D6-C6)/C6 -> 0.011394466 | F6: =D6/D$140 -> 0.011160173 | G6: =C6/B$142 -> 0.057031808 | H6: =D6/B$143 -> 0.055800865
A7: Barton | B7: Kurrajong | C7: 1393 | D7: 1441 | E7: =(D7-C7)/C7 -> 0.034458004 | F7: =D7/D$140 -> 0.0043137901 | G7: =C7/B$142 -> 0.021553258 | H7: =D7/B$143 -> 0.02156895
A8: Beard | B8: Kurrajong | C8: 0 | D8: 0 | E8: 0 | F8: =D8/D$140 -> 0 | G8: =C8/B$142 -> 0 | H8: =D8/B$143 -> 0
A9: Belconnen | B9: Ginninderra | C9: 4678 | D9: 5033 | E9: =(D9-C9)/C9 -> 0.075887131 | F9: =D9/D$140 -> 0.015066832 | G9: =C9/B$142 -> 0.072380575 | H9: =D9/B$143 -> 0.075334162
A10: Belconnen District remainder 1 | B10: Ginninderra | C10: 11 | D10: 11 | E10: =(D10-C10)/C10 -> 0 | F10: =D10/D$140 -> 3.2929695e-05 | G10: =C10/B$142 -> 0.00017019802 | H10: =D10/B$143 -> 0.00016464848
A11: Belconnen District remainder 2 | B11: Ginninderra | C11: 13 | D11: 13 | E11: =(D11-C11)/C11 -> 0 | F11: =D11/D$140 -> 3.8916912e-05 | G11: =C11/B$142 -> 0.00020114311 | H11: =D11/B$143 -> 0.00019458456
A12: Bonner | B12: Yerrabi | C12: 4088 | D12: 4188 | E12: =(D12-C12)/C12 -> 0.02446184 | F12: =D12/D$140 -> 0.012537233 | G12: =C12/B$142 -> 0.063251772 | H12: =D12/B$143 -> 0.062686165
A13: Bonython | B13: Brindabella | C13: 2818 | D13: 2794 | E13: =(D13-C13)/C13 -> -0.0085166785 | F13: =D13/D$140 -> 0.0083641426 | G13: =C13/B$142 -> 0.043601638 | H13: =D13/B$143 -> 0.041820713
A14: Braddon | B14: Kurrajong | C14: 4676 | D14: 5045 | E14: =(D14-C14)/C14 -> 0.078913601 | F14: =D14/D$140 -> 0.015102756 | G14: =C14/B$142 -> 0.07234963 | H14: =D14/B$143 -> 0.075513778
A15: Bruce | B15: Ginninderra | C15: 4301 | D15: 4537 | E15: =(D15-C15)/C15 -> 0.05487096 | F15: =D15/D$140 -> 0.013582002 | G15: =C15/B$142 -> 0.066547425 | H15: =D15/B$143 -> 0.067910012
A16: Calwell | B16: Brindabella | C16: 4249 | D16: 4370 | E16: =(D16-C16)/C16 -> 0.028477289 | F16: =D16/D$140 -> 0.01308207 | G16: =C16/B$142 -> 0.065742852 | H16: =D16/B$143 -> 0.065410349
A17: Campbell | B17: Kurrajong | C17: 4928 | D17: 4967 | E17: =(D17-C17)/C17 -> 0.007913961 | F17: =D17/D$140 -> 0.014869254 | G17: =C17/B$142 -> 0.076248712 | H17: =D17/B$143 -> 0.074346271
A18: Canberra Airport | B18: Kurrajong | C18: 0 | D18: 0 | E18: 0 | F18: =D18/D$140 -> 0 | G18: =C18/B$142 -> 0 | H18: =D18/B$143 -> 0
A19: Canberra Central District remainder 1 | B19: Kurrajong | C19: 0 | D19: 0 | E19: 0 | F19: =D19/D$140 -> 0 | G19: =C19/B$142 -> 0 | H19: =D19/B$143 -> 0
A20: Canberra Central District remainder 2 | B20: Kurrajong | C20: 0 | D20: 0 | E20: 0 | F20: =D20/D$140 -> 0 | G20: =C20/B$142 -> 0 | H20: =D20/B$143 -> 0
A21: Canberra City | B21: Kurrajong | C21: 2241 | D21: 2259 | E21: =(D21-C21)/C21 -> 0.0080321285 | F21: =D21/D$140 -> 0.0067625619 | G21: =C21/B$142 -> 0.034673978 | H21: =D21/B$143 -> 0.03381281
A22: Capital Hill | B22: Kurrajong | C22: 0 | D22: 0 | E22: 0 | F22: =D22/D$140 -> 0 | G22: =C22/B$142 -> 0 | H22: =D22/B$143 -> 0
A23: Casey | B23: Yerrabi | C23: 4100 | D23: 4245 | E23: =(D23-C23)/C23 -> 0.035365854 | F23: =D23/D$140 -> 0.012707869 | G23: =C23/B$142 -> 0.063437443 | H23: =D23/B$143 -> 0.063539344
A24: Chapman | B24: Murrumbidgee | C24: 2258 | D24: 2268 | E24: =(D24-C24)/C24 -> 0.004428698 | F24: =D24/D$140 -> 0.0067895044 | G24: =C24/B$142 -> 0.034937011 | H24: =D24/B$143 -> 0.033947522
A25: Charnwood | B25: Ginninderra | C25: 2228 | D25: 2282 | E25: =(D25-C25)/C25 -> 0.024236984 | F25: =D25/D$140 -> 0.0068314149 | G25: =C25/B$142 -> 0.034472835 | H25: =D25/B$143 -> 0.034157075
A26: Chifley | B26: Murrumbidgee | C26: 1879 | D26: 1892 | E26: =(D26-C26)/C26 -> 0.0069185737 | F26: =D26/D$140 -> 0.0056639076 | G26: =C26/B$142 -> 0.029072916 | H26: =D26/B$143 -> 0.028319538
A27: Chisholm | B27: Brindabella | C27: 3874 | D27: 3864 | E27: =(D27-C27)/C27 -> -0.0025813113 | F27: =D27/D$140 -> 0.011567304 | G27: =C27/B$142 -> 0.059940647 | H27: =D27/B$143 -> 0.057836519
A28: Conder | B28: Brindabella | C28: 3724 | D28: 3712 | E28: =(D28-C28)/C28 -> -0.0032223416 | F28: =D28/D$140 -> 0.011112275 | G28: =C28/B$142 -> 0.057619765 | H28: =D28/B$143 -> 0.055561376
A29: Cook | B29: Ginninderra | C29: 2229 | D29: 2212 | E29: =(D29-C29)/C29 -> -0.0076267384 | F29: =D29/D$140 -> 0.0066218623 | G29: =C29/B$142 -> 0.034488307 | H29: =D29/B$143 -> 0.033109312
A30: Coombs | B30: Murrumbidgee | C30: 3538 | D30: 3836 | E30: =(D30-C30)/C30 -> 0.084228378 | F30: =D30/D$140 -> 0.011483483 | G30: =C30/B$142 -> 0.054741871 | H30: =D30/B$143 -> 0.057417414
A31: Coree District | B31: Murrumbidgee | C31: 232 | D31: 234 | E31: =(D31-C31)/C31 -> 0.0086206897 | F31: =D31/D$140 -> 0.00070050442 | G31: =C31/B$142 -> 0.0035896309 | H31: =D31/B$143 -> 0.0035025221
A32: Crace | B32: Yerrabi | C32: 2957 | D32: 3044 | E32: =(D32-C32)/C32 -> 0.029421711 | F32: =D32/D$140 -> 0.0091125447 | G32: =C32/B$142 -> 0.045752322 | H32: =D32/B$143 -> 0.045562724
A33: Curtin | B33: Murrumbidgee | C33: 3950 | D33: 4025 | E33: =(D33-C33)/C33 -> 0.018987342 | F33: =D33/D$140 -> 0.012049275 | G33: =C33/B$142 -> 0.061116561 | H33: =D33/B$143 -> 0.060246374
A34: Deakin | B34: Murrumbidgee | C34: 2353 | D34: 2393 | E34: =(D34-C34)/C34 -> 0.016999575 | F34: =D34/D$140 -> 0.0071637055 | G34: =C34/B$142 -> 0.036406903 | H34: =D34/B$143 -> 0.035818527
... A58: Gungahlin | B58: Yerrabi | C58: 5165 | D58: 5594 | E58: =(D58-C58)/C58 -> 0.083059051 | F58: =D58/D$140 -> 0.016746247 | G58: =C58/B$142 -> 0.079915706 | H58: =D58/B$143 -> 0.083731234
A59: Gungahlin District remainder 1 | B59: Yerrabi | C59: 0 | D59: 0 | E59: 0 | F59: =D59/D$140 -> 0 | G59: =C59/B$142 -> 0 | H59: =D59/B$143 -> 0
A60: Gungahlin District remainder 2 | B60: Yerrabi | C60: 4 | D60: 4 | E60: =(D60-C60)/C60 -> 0 | F60: =D60/D$140 -> 1.1974435e-05 | G60: =C60/B$142 -> 6.1890188e-05 | H60: =D60/B$143 -> 5.9872173e-05
A61: Gungahlin District remainder 3 | B61: Yerrabi | C61: 0 | D61: 0 | E61: 0 | F61: =D61/D$140 -> 0 | G61: =C61/B$142 -> 0 | H61: =D61/B$143 -> 0
A62: Hackett | B62: Kurrajong | C62: 2398 | D62: 2475 | E62: =(D62-C62)/C62 -> 0.032110092 | F62: =D62/D$140 -> 0.0074091814 | G62: =C62/B$142 -> 0.037103168 | H62: =D62/B$143 -> 0.037045907
A63: Hall | B63: Yerrabi | C63: 247 | D63: 234 | E63: =(D63-C63)/C63 -> -0.052631579 | F63: =D63/D$140 -> 0.00070050442 | G63: =C63/B$142 -> 0.0038217191 | H63: =D63/B$143 -> 0.0035025221
A64: Harrison | B64: Yerrabi | C64: 4509 | D64: 4508 | E64: =(D64-C64)/C64 -> -0.00022177866 | F64: =D64/D$140 -> 0.013495188 | G64: =C64/B$142 -> 0.069765715 | H64: =D64/B$143 -> 0.067475939
A65: Hawker | B65: Ginninderra | C65: 2184 | D65: 2166 | E65: =(D65-C65)/C65 -> -0.0082417582 | F65: =D65/D$140 -> 0.0064841563 | G65: =C65/B$142 -> 0.033792043 | H65: =D65/B$143 -> 0.032420782
A66: Higgins | B66: Ginninderra | C66: 2445 | D66: 2421 | E66: =(D66-C66)/C66 -> -0.0098159509 | F66: =D66/D$140 -> 0.0072475265 | G66: =C66/B$142 -> 0.037830378 | H66: =D66/B$143 -> 0.036237633
A67: Holder | B67: Murrumbidgee | C67: 2072 | D67: 2083 | E67: =(D67-C67)/C67 -> 0.0053088803 | F67: =D67/D$140 -> 0.0062356868 | G67: =C67/B$142 -> 0.032059118 | H67: =D67/B$143 -> 0.031178434
A68: Holt | B68: Ginninderra | C68: 4078 | D68: 4343 | E68: =(D68-C68)/C68 -> 0.064982835 | F68: =D68/D$140 -> 0.013001242 | G68: =C68/B$142 -> 0.063097047 | H68: =D68/B$143 -> 0.065006212
A69: Hughes | B69: Murrumbidgee | C69: 2253 | D69: 2293 | E69: =(D69-C69)/C69 -> 0.017754106 | F69: =D69/D$140 -> 0.0068643446 | G69: =C69/B$142 -> 0.034859649 | H69: =D69/B$143 -> 0.034321723
A70: Hume | B70: Kurrajong | C70: 12 | D70: 12 | E70: =(D70-C70)/C70 -> 0 | F70: =D70/D$140 -> 3.5923304e-05 | G70: =C70/B$142 -> 0.00018567056 | H70: =D70/B$143 -> 0.00017961652
A71: Isaacs | B71: Murrumbidgee | C71: 1793 | D71: 1822 | E71: =(D71-C71)/C71 -> 0.01617401 | F71: =D71/D$140 -> 0.005454355 | G71: =C71/B$142 -> 0.027742277 | H71: =D71/B$143 -> 0.027271775
A72: Isabella Plains | B72: Brindabella | C72: 3176 | D72: 3211 | E72: =(D72-C72)/C72 -> 0.011020151 | F72: =D72/D$140 -> 0.0096124774 | G72: =C72/B$142 -> 0.049140809 | H72: =D72/B$143 -> 0.048062387
A73: Jacka | B73: Yerrabi | C73: 462 | D73: 504 | E73: =(D73-C73)/C73 -> 0.090909091 | F73: =D73/D$140 -> 0.0015087788 | G73: =C73/B$142 -> 0.0071483167 | H73: =D73/B$143 -> 0.0075438938
... A90: Mitchell | B90: Yerrabi | C90: 1 | D90: 1 | E90: =(D90-C90)/C90 -> 0 | F90: =D90/D$140 -> 2.9936086e-06 | G90: =C90/B$142 -> 1.5472547e-05 | H90: =D90/B$143 -> 1.4968043e-05
A91: Molonglo | B91: Murrumbidgee | C91: 0 | D91: 0 | E91: 0 | F91: =D91/D$140 -> 0 | G91: =C91/B$142 -> 0 | H91: =D91/B$143 -> 0
A92: Molonglo Valley District remainder | B92: Murrumbidgee | C92: 2 | D92: 2 | E92: =(D92-C92)/C92 -> 0 | F92: =D92/D$140 -> 5.9872173e-06 | G92: =C92/B$142 -> 3.0945094e-05 | H92: =D92/B$143 -> 2.9936086e-05
A93: Monash | B93: Brindabella | C93: 4211 | D93: 4232 | E93: =(D93-C93)/C93 -> 0.004986939 | F93: =D93/D$140 -> 0.012668952 | G93: =C93/B$142 -> 0.065154896 | H93: =D93/B$143 -> 0.063344759
A94: Moncrieff | B94: Yerrabi | C94: 2863 | D94: 3178 | E94: =(D94-C94)/C94 -> 0.11002445 | F94: =D94/D$140 -> 0.0095136883 | G94: =C94/B$142 -> 0.044297902 | H94: =D94/B$143 -> 0.047568441
A95: Narrabundah | B95: Kurrajong | C95: 4943 | D95: 5268 | E95: =(D95-C95)/C95 -> 0.065749545 | F95: =D95/D$140 -> 0.01577033 | G95: =C95/B$142 -> 0.0764808 | H95: =D95/B$143 -> 0.078851652
A96: Ngunnawal | B96: Yerrabi | C96: 7320 | D96: 7440 | E96: =(D96-C96)/C96 -> 0.016393443 | F96: =D96/D$140 -> 0.022272448 | G96: =C96/B$142 -> 0.11325904 | H96: =D96/B$143 -> 0.11136224
A97: Nicholls | B97: Yerrabi | C97: 4951 | D97: 4999 | E97: =(D97-C97)/C97 -> 0.0096950111 | F97: =D97/D$140 -> 0.01496505 | G97: =C97/B$142 -> 0.07660458 | H97: =D97/B$143 -> 0.074825248
A98: Oaks Estate | B98: Kurrajong | C98: 228 | D98: 230 | E98: =(D98-C98)/C98 -> 0.0087719298 | F98: =D98/D$140 -> 0.00068852999 | G98: =C98/B$142 -> 0.0035277407 | H98: =D98/B$143 -> 0.0034426499
A99: O'Connor | B99: Kurrajong | C99: 4294 | D99: 4413 | E99: =(D99-C99)/C99 -> 0.027713088 | F99: =D99/D$140 -> 0.013210795 | G99: =C99/B$142 -> 0.066439117 | H99: =D99/B$143 -> 0.066053975
A100: O'Malley | B100: Murrumbidgee | C100: 729 | D100: 735 | E100: =(D100-C100)/C100 -> 0.0082304527 | F100: =D100/D$140 -> 0.0022003024 | G100: =C100/B$142 -> 0.011279487 | H100: =D100/B$143 -> 0.011001512
A101: Oxley | B101: Brindabella | C101: 1289 | D101: 1304 | E101: =(D101-C101)/C101 -> 0.011636928 | F101: =D101/D$140 -> 0.0039036657 | G101: =C101/B$142 -> 0.019944113 | H101: =D101/B$143 -> 0.019518328
A102: Paddys River District | B102: Brindabella | C102: 71 | D102: 72 | E102: =(D102-C102)/C102 -> 0.014084507 | F102: =D102/D$140 -> 0.00021553982 | G102: =C102/B$142 -> 0.0010985508 | H102: =D102/B$143 -> 0.0010776991
A103: Page | B103: Ginninderra | C103: 2021 | D103: 2088 | E103: =(D103-C103)/C103 -> 0.033151905 | F103: =D103/D$140 -> 0.0062506549 | G103: =C103/B$142 -> 0.031270018 | H103: =D103/B$143 -> 0.031253274
... A112: Rivett | B112: Murrumbidgee | C112: 2440 | D112: 2545 | E112: =(D112-C112)/C112 -> 0.043032787 | F112: =D112/D$140 -> 0.007618734 | G112: =C112/B$142 -> 0.037753015 | H112: =D112/B$143 -> 0.03809367
A113: Russell | B113: Kurrajong | C113: 0 | D113: 0 | E113: 0 | F113: =D113/D$140 -> 0 | G113: =C113/B$142 -> 0 | H113: =D113/B$143 -> 0
A114: Scullin | B114: Ginninderra | C114: 2059 | D114: 1999 | E114: =(D114-C114)/C114 -> -0.029140359 | F114: =D114/D$140 -> 0.0059842237 | G114: =C114/B$142 -> 0.031857974 | H114: =D114/B$143 -> 0.029921118
A115: Spence | B115: Ginninderra | C115: 1967 | D115: 1978 | E115: =(D115-C115)/C115 -> 0.0055922725 | F115: =D115/D$140 -> 0.0059213579 | G115: =C115/B$142 -> 0.0304345 | H115: =D115/B$143 -> 0.02960679
A116: Stirling | B116: Murrumbidgee | C116: 1519 | D116: 1563 | E116: =(D116-C116)/C116 -> 0.028966425 | F116: =D116/D$140 -> 0.0046790103 | G116: =C116/B$142 -> 0.023502799 | H116: =D116/B$143 -> 0.023395052
A117: Strathnairn | B117: Ginninderra | C117: 1432 | D117: 2052 | E117: =(D117-C117)/C117 -> 0.43296089 | F117: =D117/D$140 -> 0.0061428849 | G117: =C117/B$142 -> 0.022156687 | H117: =D117/B$143 -> 0.030714425
A118: Stromlo District | B118: Murrumbidgee | C118: 30 | D118: 30 | E118: =(D118-C118)/C118 -> 0 | F118: =D118/D$140 -> 8.9808259e-05 | G118: =C118/B$142 -> 0.00046417641 | H118: =D118/B$143 -> 0.0004490413
A119: Symonston | B119: Kurrajong | C119: 380 | D119: 383 | E119: =(D119-C119)/C119 -> 0.0078947368 | F119: =D119/D$140 -> 0.0011465521 | G119: =C119/B$142 -> 0.0058795679 | H119: =D119/B$143 -> 0.0057327606
A120: Taylor | B120: Yerrabi | C120: 3679 | D120: 4664 | E120: =(D120-C120)/C120 -> 0.2677358 | F120: =D120/D$140 -> 0.013962191 | G120: =C120/B$142 -> 0.056923501 | H120: =D120/B$143 -> 0.069810954
A121: Tennent District | B121: Brindabella | C121: 28 | D121: 28 | E121: =(D121-C121)/C121 -> 0 | F121: =D121/D$140 -> 8.3821042e-05 | G121: =C121/B$142 -> 0.00043323132 | H121: =D121/B$143 -> 0.00041910521
A122: Tharwa | B122: Brindabella | C122: 54 | D122: 54 | E122: =(D122-C122)/C122 -> 0 | F122: =D122/D$140 -> 0.00016165487 | G122: =C122/B$142 -> 0.00083551754 | H122: =D122/B$143 -> 0.00080827433
A123: Theodore | B123: Brindabella | C123: 2843 | D123: 2876 | E123: =(D123-C123)/C123 -> 0.011607457 | F123: =D123/D$140 -> 0.0086096185 | G123: =C123/B$142 -> 0.043988451 | H123: =D123/B$143 -> 0.043048092
A124: Throsby | B124: Yerrabi | C124: 1838 | D124: 2010 | E124: =(D124-C124)/C124 -> 0.093579978 | F124: =D124/D$140 -> 0.0060171534 | G124: =C124/B$142 -> 0.028438541 | H124: =D124/B$143 -> 0.030085767
A125: Torrens | B125: Murrumbidgee | C125: 1758 | D125: 1757 | E125: =(D125-C125)/C125 -> -0.00056882821 | F125: =D125/D$140 -> 0.0052597704 | G125: =C125/B$142 -> 0.027200738 | H125: =D125/B$143 -> 0.026298852
... A127: Tuggeranong District remainder 2 | B127: Brindabella | C127: 32 | D127: 32 | E127: =(D127-C127)/C127 -> 0 | F127: =D127/D$140 -> 9.5795477e-05 | G127: =C127/B$142 -> 0.00049512151 | H127: =D127/B$143 -> 0.00047897738
A128: Tuggeranong District remainder 3 | B128: Brindabella | C128: 0 | D128: 0 | E128: 0 | F128: =D128/D$140 -> 0 | G128: =C128/B$142 -> 0 | H128: =D128/B$143 -> 0
A129: Turner | B129: Kurrajong | C129: 3083 | D129: 3329 | E129: =(D129-C129)/C129 -> 0.07979241 | F129: =D129/D$140 -> 0.0099657232 | G129: =C129/B$142 -> 0.047701863 | H129: =D129/B$143 -> 0.049828616
A130: Wanniassa | B130: Brindabella | C130: 5736 | D130: 5694 | E130: =(D130-C130)/C130 -> -0.0073221757 | F130: =D130/D$140 -> 0.017045608 | G130: =C130/B$142 -> 0.08875053 | H130: =D130/B$143 -> 0.085228038
A131: Waramanga | B131: Murrumbidgee | C131: 1931 | D131: 1899 | E131: =(D131-C131)/C131 -> -0.016571724 | F131: =D131/D$140 -> 0.0056848628 | G131: =C131/B$142 -> 0.029877488 | H131: =D131/B$143 -> 0.028424314
A132: Watson | B132: Kurrajong | C132: 4854 | D132: 5158 | E132: =(D132-C132)/C132 -> 0.06262876 | F132: =D132/D$140 -> 0.015441033 | G132: =C132/B$142 -> 0.075103743 | H132: =D132/B$143 -> 0.077205167
A133: Weetangera | B133: Ginninderra | C133: 2051 | D133: 2065 | E133: =(D133-C133)/C133 -> 0.0068259386 | F133: =D133/D$140 -> 0.0061818019 | G133: =C133/B$142 -> 0.031734194 | H133: =D133/B$143 -> 0.030909009
A134: Weston | B134: Murrumbidgee | C134: 2776 | D134: 2887 | E134: =(D134-C134)/C134 -> 0.039985591 | F134: =D134/D$140 -> 0.0086425482 | G134: =C134/B$142 -> 0.042951791 | H134: =D134/B$143 -> 0.043212741
A135: Weston Creek District remainder | B135: Murrumbidgee | C135: 144 | D135: 145 | E135: =(D135-C135)/C135 -> 0.0069444444 | F135: =D135/D$140 -> 0.00043407325 | G135: =C135/B$142 -> 0.0022280468 | H135: =D135/B$143 -> 0.0021703663
A136: Whitlam | B136: Murrumbidgee | C136: 1289 | D136: 2028 | E136: =(D136-C136)/C136 -> 0.57331265 | F136: =D136/D$140 -> 0.0060710383 | G136: =C136/B$142 -> 0.019944113 | H136: =D136/B$143 -> 0.030355192
A137: Woden Valley District remainder | B137: Murrumbidgee | C137: 0 | D137: 0 | E137: 0 | F137: =D137/D$140 -> 0 | G137: =C137/B$142 -> 0 | H137: =D137/B$143 -> 0
A138: Wright | B138: Murrumbidgee | C138: 2737 | D138: 2879 | E138: =(D138-C138)/C138 -> 0.051881622 | F138: =D138/D$140 -> 0.0086185993 | G138: =C138/B$142 -> 0.042348361 | H138: =D138/B$143 -> 0.043092996
A139: Yarralumla | B139: Murrumbidgee | C139: 2457 | D139: 2459 | E139: =(D139-C139)/C139 -> 0.00081400081 | F139: =D139/D$140 -> 0.0073612837 | G139: =C139/B$142 -> 0.038016048 | H139: =D139/B$143 -> 0.036806418
A140: Total | C140: =SUM(C2:C139) -> 323153 | D140: =SUM(D2:D139) -> 334045 | E140: =(D140-C140)/C140 -> 0.033705397 | F140: =SUM(F2:F139) -> 1
A142: Current quota | B142: =(C140*5)/25 -> 64630.6
A143: Projected quota | B143: =(D140*5)/25 -> 66809

Sheet Table 2 - Brindabella
A1: Locality | B1: Current electorate | C1: Actual persons enrolled 31 Aug 2026 | D1: Projected persons enrolled 21 Oct 2028 | E1: Percentage Change | F1: Projected proportion of the ACT | G1: % of Current quota | H1: % of Projected quota
A3: Banks | B3: Brindabella | C3: 3686 | D3: 3728 | E3: =(D3-C3)/C3 -> 0.011394466 | F3: =D3/'Table 1 - ACT'!D$140 -> 0.011160173 | G3: =C3/'Table 1 - ACT'!B$142 -> 0.057031808 | H3: =D3/'Table 1 - ACT'!B$143 -> 0.055800865
A4: Bonython | B4: Brindabella | C4: 2818 | D4: 2794 | E4: =(D4-C4)/C4 -> -0.0085166785 | F4: =D4/'Table 1 - ACT'!D$140 -> 0.0083641426 | G4: =C4/'Table 1 - ACT'!B$142 -> 0.043601638 | H4: =D4/'Table 1 - ACT'!B$143 -> 0.041820713
A5: Calwell | B5: Brindabella | C5: 4249 | D5: 4370 | E5: =(D5-C5)/C5 -> 0.028477289 | F5: =D5/'Table 1 - ACT'!D$140 -> 0.01308207 | G5: =C5/'Table 1 - ACT'!B$142 -> 0.065742852 | H5: =D5/'Table 1 - ACT'!B$143 -> 0.065410349
A6: Chisholm | B6: Brindabella | C6: 3874 | D6: 3864 | E6: =(D6-C6)/C6 -> -0.0025813113 | F6: =D6/'Table 1 - ACT'!D$140 -> 0.011567304 | G6: =C6/'Table 1 - ACT'!B$142 -> 0.059940647 | H6: =D6/'Table 1 - ACT'!B$143 -> 0.057836519
A7: Conder | B7: Brindabella | C7: 3724 | D7: 3712 | E7: =(D7-C7)/C7 -> -0.0032223416 | F7: =D7/'Table 1 - ACT'!D$140 -> 0.011112275 | G7: =C7/'Table 1 - ACT'!B$142 -> 0.057619765 | H7: =D7/'Table 1 - ACT'!B$143 -> 0.055561376
A8: Fadden | B8: Brindabella | C8: 2286 | D8: 2288 | E8: =(D8-C8)/C8 -> 0.00087489064 | F8: =D8/'Table 1 - ACT'!D$140 -> 0.0068493766 | G8: =C8/'Table 1 - ACT'!B$142 -> 0.035370243 | H8: =D8/'Table 1 - ACT'!B$143 -> 0.034246883
A9: Gilmore | B9: Brindabella | C9: 1999 | D9: 2005 | E9: =(D9-C9)/C9 -> 0.0030015008 | F9: =D9/'Table 1 - ACT'!D$140 -> 0.0060021853 | G9: =C9/'Table 1 - ACT'!B$142 -> 0.030929622 | H9: =D9/'Table 1 - ACT'!B$143 -> 0.030010927
A10: Gordon | B10: Brindabella | C10: 5811 | D10: 5810 | E10: =(D10-C10)/C10 -> -0.00017208742 | F10: =D10/'Table 1 - ACT'!D$140 -> 0.017392866 | G10: =C10/'Table 1 - ACT'!B$142 -> 0.089910971 | H10: =D10/'Table 1 - ACT'!B$143 -> 0.086964331
A11: Gowrie | B11: Brindabella | C11: 2312 | D11: 2299 | E11: =(D11-C11)/C11 -> -0.0056228374 | F11: =D11/'Table 1 - ACT'!D$140 -> 0.0068823063 | G11: =C11/'Table 1 - ACT'!B$142 -> 0.035772529 | H11: =D11/'Table 1 - ACT'!B$143 -> 0.034411531
A12: Greenway | B12: Brindabella | C12: 3708 | D12: 4127 | E12: =(D12-C12)/C12 -> 0.11299892 | F12: =D12/'Table 1 - ACT'!D$140 -> 0.012354623 | G12: =C12/'Table 1 - ACT'!B$142 -> 0.057372204 | H12: =D12/'Table 1 - ACT'!B$143 -> 0.061773114
A13: Isabella Plains | B13: Brindabella | C13: 3176 | D13: 3211 | E13: =(D13-C13)/C13 -> 0.011020151 | F13: =D13/'Table 1 - ACT'!D$140 -> 0.0096124774 | G13: =C13/'Table 1 - ACT'!B$142 -> 0.049140809 | H13: =D13/'Table 1 - ACT'!B$143 -> 0.048062387
A14: Kambah | B14: Brindabella | C14: 11742 | D14: 11759 | E14: =(D14-C14)/C14 -> 0.0014477942 | F14: =D14/'Table 1 - ACT'!D$140 -> 0.035201844 | G14: =C14/'Table 1 - ACT'!B$142 -> 0.18167865 | H14: =D14/'Table 1 - ACT'!B$143 -> 0.17600922
... A24: Tuggeranong District remainder 2 | B24: Brindabella | C24: 32 | D24: 32 | E24: =(D24-C24)/C24 -> 0 | F24: =D24/'Table 1 - ACT'!D$140 -> 9.5795477e-05 | G24: =C24/'Table 1 - ACT'!B$142 -> 0.00049512151 | H24: =D24/'Table 1 - ACT'!B$143 -> 0.00047897738
A25: Tuggeranong District remainder 3 | B25: Brindabella | C25: 0 | D25: 0 | E25: 0 | F25: =D25/'Table 1 - ACT'!D$140 -> 0 | G25: =C25/'Table 1 - ACT'!B$142 -> 0 | H25: =D25/'Table 1 - ACT'!B$143 -> 0
A26: Wanniassa | B26: Brindabella | C26: 5736 | D26: 5694 | E26: =(D26-C26)/C26 -> -0.0073221757 | F26: =D26/'Table 1 - ACT'!D$140 -> 0.017045608 | G26: =C26/'Table 1 - ACT'!B$142 -> 0.08875053 | H26: =D26/'Table 1 - ACT'!B$143 -> 0.085228038
A27: Total | C27: =SUM(C3:C26) -> 67019 | D27: =SUM(D3:D26) -> 67643 | E27: =(D27-C27)/C27 -> 0.0093107925 | F27: =D27/'Table 1 - ACT'!D$140 -> 0.20249667

Sheet Table 3 - Ginninderra
A1: Locality | B1: Current electorate | C1: Actual persons enrolled 31 Aug 2026 | D1: Projected persons enrolled 21 Oct 2028 | E1: Percentage Change | F1: Projected proportion of the ACT | G1: % of Current quota | H1: % of Projected quota
A3: Aranda | B3: Ginninderra | C3: 1855 | D3: 1795 | E3: =(D3-C3)/C3 -> -0.032345013 | F3: =D3/'Table 1 - ACT'!D$140 -> 0.0053735275 | G3: =C3/'Table 1 - ACT'!B$142 -> 0.028701575 | H3: =D3/'Table 1 - ACT'!B$143 -> 0.026867638
A4: Belconnen | B4: Ginninderra | C4: 4678 | D4: 5033 | E4: =(D4-C4)/C4 -> 0.075887131 | F4: =D4/'Table 1 - ACT'!D$140 -> 0.015066832 | G4: =C4/'Table 1 - ACT'!B$142 -> 0.072380575 | H4: =D4/'Table 1 - ACT'!B$143 -> 0.075334162
A5: Belconnen District remainder 1 | B5: Ginninderra | C5: 11 | D5: 11 | E5: =(D5-C5)/C5 -> 0 | F5: =D5/'Table 1 - ACT'!D$140 -> 3.2929695e-05 | G5: =C5/'Table 1 - ACT'!B$142 -> 0.00017019802 | H5: =D5/'Table 1 - ACT'!B$143 -> 0.00016464848
A6: Belconnen District remainder 2 | B6: Ginninderra | C6: 13 | D6: 13 | E6: =(D6-C6)/C6 -> 0 | F6: =D6/'Table 1 - ACT'!D$140 -> 3.8916912e-05 | G6: =C6/'Table 1 - ACT'!B$142 -> 0.00020114311 | H6: =D6/'Table 1 - ACT'!B$143 -> 0.00019458456
A7: Bruce | B7: Ginninderra | C7: 4301 | D7: 4537 | E7: =(D7-C7)/C7 -> 0.05487096 | F7: =D7/'Table 1 - ACT'!D$140 -> 0.013582002 | G7: =C7/'Table 1 - ACT'!B$142 -> 0.066547425 | H7: =D7/'Table 1 - ACT'!B$143 -> 0.067910012
A8: Charnwood | B8: Ginninderra | C8: 2228 | D8: 2282 | E8: =(D8-C8)/C8 -> 0.024236984 | F8: =D8/'Table 1 - ACT'!D$140 -> 0.0068314149 | G8: =C8/'Table 1 - ACT'!B$142 -> 0.034472835 | H8: =D8/'Table 1 - ACT'!B$143 -> 0.034157075
A9: Cook | B9: Ginninderra | C9: 2229 | D9: 2212 | E9: =(D9-C9)/C9 -> -0.0076267384 | F9: =D9/'Table 1 - ACT'!D$140 -> 0.0066218623 | G9: =C9/'Table 1 - ACT'!B$142 -> 0.034488307 | H9: =D9/'Table 1 - ACT'!B$143 -> 0.033109312
A10: Dunlop | B10: Ginninderra | C10: 5038 | D10: 5086 | E10: =(D10-C10)/C10 -> 0.0095275903 | F10: =D10/'Table 1 - ACT'!D$140 -> 0.015225494 | G10: =C10/'Table 1 - ACT'!B$142 -> 0.077950692 | H10: =D10/'Table 1 - ACT'!B$143 -> 0.076127468
A11: Evatt | B11: Ginninderra | C11: 3868 | D11: 3871 | E11: =(D11-C11)/C11 -> 0.00077559462 | F11: =D11/'Table 1 - ACT'!D$140 -> 0.011588259 | G11: =C11/'Table 1 - ACT'!B$142 -> 0.059847812 | H11: =D11/'Table 1 - ACT'!B$143 -> 0.057941295
A12: Florey | B12: Ginninderra | C12: 3427 | D12: 3408 | E12: =(D12-C12)/C12 -> -0.0055442078 | F12: =D12/'Table 1 - ACT'!D$140 -> 0.010202218 | G12: =C12/'Table 1 - ACT'!B$142 -> 0.053024419 | H12: =D12/'Table 1 - ACT'!B$143 -> 0.051011091
A13: Flynn | B13: Ginninderra | C13: 2615 | D13: 2611 | E13: =(D13-C13)/C13 -> -0.0015296367 | F13: =D13/'Table 1 - ACT'!D$140 -> 0.0078163122 | G13: =C13/'Table 1 - ACT'!B$142 -> 0.040460711 | H13: =D13/'Table 1 - ACT'!B$143 -> 0.039081561
A14: Fraser | B14: Ginninderra | C14: 1629 | D14: 1606 | E14: =(D14-C14)/C14 -> -0.014119091 | F14: =D14/'Table 1 - ACT'!D$140 -> 0.0048077355 | G14: =C14/'Table 1 - ACT'!B$142 -> 0.025204779 | H14: =D14/'Table 1 - ACT'!B$143 -> 0.024038677
... A29: Weetangera | B29: Ginninderra | C29: 2051 | D29: 2065 | E29: =(D29-C29)/C29 -> 0.0068259386 | F29: =D29/'Table 1 - ACT'!D$140 -> 0.0061818019 | G29: =C29/'Table 1 - ACT'!B$142 -> 0.031734194 | H29: =D29/'Table 1 - ACT'!B$143 -> 0.030909009
A30: Total | C30: =SUM(C3:C29) -> 65476 | D30: =SUM(D3:D29) -> 67044 | E30: =(D30-C30)/C30 -> 0.023947706 | F30: =D30/'Table 1 - ACT'!D$140 -> 0.2007035

Sheet Table 4 - Kurrajong
A1: Locality | B1: Current electorate | C1: Actual persons enrolled 31 Aug 2026 | D1: Projected persons enrolled 21 Oct 2028 | E1: Percentage Change | F1: Projected proportion of the ACT | G1: % of Current quota | H1: % of Projected quota
A3: Acton | B3: Kurrajong | C3: 703 | D3: 704 | E3: =(D3-C3)/C3 -> 0.0014224751 | F3: =D3/'Table 1 - ACT'!D$140 -> 0.0021075005 | G3: =C3/'Table 1 - ACT'!B$142 -> 0.010877201 | H3: =D3/'Table 1 - ACT'!B$143 -> 0.010537502
A4: Ainslie | B4: Kurrajong | C4: 4069 | D4: 4118 | E4: =(D4-C4)/C4 -> 0.012042271 | F4: =D4/'Table 1 - ACT'!D$140 -> 0.01232768 | G4: =C4/'Table 1 - ACT'!B$142 -> 0.062957794 | H4: =D4/'Table 1 - ACT'!B$143 -> 0.061638402
A5: Barton | B5: Kurrajong | C5: 1393 | D5: 1441 | E5: =(D5-C5)/C5 -> 0.034458004 | F5: =D5/'Table 1 - ACT'!D$140 -> 0.0043137901 | G5: =C5/'Table 1 - ACT'!B$142 -> 0.021553258 | H5: =D5/'Table 1 - ACT'!B$143 -> 0.02156895
A6: Beard | B6: Kurrajong | C6: 0 | D6: 0 | E6: 0 | F6: =D6/'Table 1 - ACT'!D$140 -> 0 | G6: =C6/'Table 1 - ACT'!B$142 -> 0 | H6: =D6/'Table 1 - ACT'!B$143 -> 0
A7: Braddon | B7: Kurrajong | C7: 4676 | D7: 5045 | E7: =(D7-C7)/C7 -> 0.078913601 | F7: =D7/'Table 1 - ACT'!D$140 -> 0.015102756 | G7: =C7/'Table 1 - ACT'!B$142 -> 0.07234963 | H7: =D7/'Table 1 - ACT'!B$143 -> 0.075513778
A8: Campbell | B8: Kurrajong | C8: 4928 | D8: 4967 | E8: =(D8-C8)/C8 -> 0.007913961 | F8: =D8/'Table 1 - ACT'!D$140 -> 0.014869254 | G8: =C8/'Table 1 - ACT'!B$142 -> 0.076248712 | H8: =D8/'Table 1 - ACT'!B$143 -> 0.074346271
A9: Canberra Airport | B9: Kurrajong | C9: 0 | D9: 0 | E9: 0 | F9: =D9/'Table 1 - ACT'!D$140 -> 0 | G9: =C9/'Table 1 - ACT'!B$142 -> 0 | H9: =D9/'Table 1 - ACT'!B$143 -> 0
A10: Canberra Central District remainder 1 | B10: Kurrajong | C10: 0 | D10: 0 | E10: 0 | F10: =D10/'Table 1 - ACT'!D$140 -> 0 | G10: =C10/'Table 1 - ACT'!B$142 -> 0 | H10: =D10/'Table 1 - ACT'!B$143 -> 0
A11: Canberra Central District remainder 2 | B11: Kurrajong | C11: 0 | D11: 0 | E11: 0 | F11: =D11/'Table 1 - ACT'!D$140 -> 0 | G11: =C11/'Table 1 - ACT'!B$142 -> 0 | H11: =D11/'Table 1 - ACT'!B$143 -> 0
A12: Canberra City | B12: Kurrajong | C12: 2241 | D12: 2259 | E12: =(D12-C12)/C12 -> 0.0080321285 | F12: =D12/'Table 1 - ACT'!D$140 -> 0.0067625619 | G12: =C12/'Table 1 - ACT'!B$142 -> 0.034673978 | H12: =D12/'Table 1 - ACT'!B$143 -> 0.03381281
A13: Capital Hill | B13: Kurrajong | C13: 0 | D13: 0 | E13: 0 | F13: =D13/'Table 1 - ACT'!D$140 -> 0 | G13: =C13/'Table 1 - ACT'!B$142 -> 0 | H13: =D13/'Table 1 - ACT'!B$143 -> 0
A14: Dickson | B14: Kurrajong | C14: 3000 | D14: 3303 | E14: =(D14-C14)/C14 -> 0.101 | F14: =D14/'Table 1 - ACT'!D$140 -> 0.0098878894 | G14: =C14/'Table 1 - ACT'!B$142 -> 0.046417641 | H14: =D14/'Table 1 - ACT'!B$143 -> 0.049439447
A15: Downer | B15: Kurrajong | C15: 2915 | D15: 3086 | E15: =(D15-C15)/C15 -> 0.058662093 | F15: =D15/'Table 1 - ACT'!D$140 -> 0.0092382763 | G15: =C15/'Table 1 - ACT'!B$142 -> 0.045102475 | H15: =D15/'Table 1 - ACT'!B$143 -> 0.046191381
A16: Fyshwick | B16: Kurrajong | C16: 16 | D16: 16 | E16: =(D16-C16)/C16 -> 0 | F16: =D16/'Table 1 - ACT'!D$140 -> 4.7897738e-05 | G16: =C16/'Table 1 - ACT'!B$142 -> 0.00024756075 | H16: =D16/'Table 1 - ACT'!B$143 -> 0.00023948869
A17: Griffith | B17: Kurrajong | C17: 4312 | D17: 4508 | E17: =(D17-C17)/C17 -> 0.045454545 | F17: =D17/'Table 1 - ACT'!D$140 -> 0.013495188 | G17: =C17/'Table 1 - ACT'!B$142 -> 0.066717623 | H17: =D17/'Table 1 - ACT'!B$143 -> 0.067475939
A18: Hackett | B18: Kurrajong | C18: 2398 | D18: 2475 | E18: =(D18-C18)/C18 -> 0.032110092 | F18: =D18/'Table 1 - ACT'!D$140 -> 0.0074091814 | G18: =C18/'Table 1 - ACT'!B$142 -> 0.037103168 | H18: =D18/'Table 1 - ACT'!B$143 -> 0.037045907
A19: Hume | B19: Kurrajong | C19: 12 | D19: 12 | E19: =(D19-C19)/C19 -> 0 | F19: =D19/'Table 1 - ACT'!D$140 -> 3.5923304e-05 | G19: =C19/'Table 1 - ACT'!B$142 -> 0.00018567056 | H19: =D19/'Table 1 - ACT'!B$143 -> 0.00017961652
A20: Jerrabomberra District | B20: Kurrajong | C20: 18 | D20: 18 | E20: =(D20-C20)/C20 -> 0 | F20: =D20/'Table 1 - ACT'!D$140 -> 5.3884956e-05 | G20: =C20/'Table 1 - ACT'!B$142 -> 0.00027850585 | H20: =D20/'Table 1 - ACT'!B$143 -> 0.00026942478
A21: Kingston | B21: Kurrajong | C21: 4819 | D21: 5247 | E21: =(D21-C21)/C21 -> 0.088815107 | F21: =D21/'Table 1 - ACT'!D$140 -> 0.015707465 | G21: =C21/'Table 1 - ACT'!B$142 -> 0.074562204 | H21: =D21/'Table 1 - ACT'!B$143 -> 0.078537323
A22: Lyneham | B22: Kurrajong | C22: 4054 | D22: 4346 | E22: =(D22-C22)/C22 -> 0.072027627 | F22: =D22/'Table 1 - ACT'!D$140 -> 0.013010223 | G22: =C22/'Table 1 - ACT'!B$142 -> 0.062725706 | H22: =D22/'Table 1 - ACT'!B$143 -> 0.065051116
A23: Majura District | B23: Kurrajong | C23: 95 | D23: 96 | E23: =(D23-C23)/C23 -> 0.010526316 | F23: =D23/'Table 1 - ACT'!D$140 -> 0.00028738643 | G23: =C23/'Table 1 - ACT'!B$142 -> 0.001469892 | H23: =D23/'Table 1 - ACT'!B$143 -> 0.0014369321
A24: Narrabundah | B24: Kurrajong | C24: 4943 | D24: 5268 | E24: =(D24-C24)/C24 -> 0.065749545 | F24: =D24/'Table 1 - ACT'!D$140 -> 0.01577033 | G24: =C24/'Table 1 - ACT'!B$142 -> 0.0764808 | H24: =D24/'Table 1 - ACT'!B$143 -> 0.078851652
A25: Oaks Estate | B25: Kurrajong | C25: 228 | D25: 230 | E25: =(D25-C25)/C25 -> 0.0087719298 | F25: =D25/'Table 1 - ACT'!D$140 -> 0.00068852999 | G25: =C25/'Table 1 - ACT'!B$142 -> 0.0035277407 | H25: =D25/'Table 1 - ACT'!B$143 -> 0.0034426499
... A29: Reid | B29: Kurrajong | C29: 1469 | D29: 1499 | E29: =(D29-C29)/C29 -> 0.020422056 | F29: =D29/'Table 1 - ACT'!D$140 -> 0.0044874194 | G29: =C29/'Table 1 - ACT'!B$142 -> 0.022729172 | H29: =D29/'Table 1 - ACT'!B$143 -> 0.022437097
A30: Russell | B30: Kurrajong | C30: 0 | D30: 0 | E30: 0 | F30: =D30/'Table 1 - ACT'!D$140 -> 0 | G30: =C30/'Table 1 - ACT'!B$142 -> 0 | H30: =D30/'Table 1 - ACT'!B$143 -> 0
A31: Symonston | B31: Kurrajong | C31: 380 | D31: 383 | E31: =(D31-C31)/C31 -> 0.0078947368 | F31: =D31/'Table 1 - ACT'!D$140 -> 0.0011465521 | G31: =C31/'Table 1 - ACT'!B$142 -> 0.0058795679 | H31: =D31/'Table 1 - ACT'!B$143 -> 0.0057327606
A32: Turner | B32: Kurrajong | C32: 3083 | D32: 3329 | E32: =(D32-C32)/C32 -> 0.07979241 | F32: =D32/'Table 1 - ACT'!D$140 -> 0.0099657232 | G32: =C32/'Table 1 - ACT'!B$142 -> 0.047701863 | H32: =D32/'Table 1 - ACT'!B$143 -> 0.049828616
A33: Watson | B33: Kurrajong | C33: 4854 | D33: 5158 | E33: =(D33-C33)/C33 -> 0.06262876 | F33: =D33/'Table 1 - ACT'!D$140 -> 0.015441033 | G33: =C33/'Table 1 - ACT'!B$142 -> 0.075103743 | H33: =D33/'Table 1 - ACT'!B$143 -> 0.077205167
A34: Total | C34: =SUM(C3:C33) -> 59406 | D34: =SUM(D3:D33) -> 62431 | E34: =(D34-C34)/C34 -> 0.050920782 | F34: =D34/'Table 1 - ACT'!D$140 -> 0.18689398

Sheet Table 5 - Murrumbidgee
A1: Locality | B1: Current electorate | C1: Actual persons enrolled 31 Aug 2026 | D1: Projected persons enrolled 21 Oct 2028 | E1: Percentage Change | F1: Projected proportion of the ACT | G1: % of Current quota | H1: % of Projected quota
A3: Chapman | B3: Murrumbidgee | C3: 2258 | D3: 2268 | E3: =(D3-C3)/C3 -> 0.004428698 | F3: =D3/'Table 1 - ACT'!D$140 -> 0.0067895044 | G3: =C3/'Table 1 - ACT'!B$142 -> 0.034937011 | H3: =D3/'Table 1 - ACT'!B$143 -> 0.033947522
A4: Chifley | B4: Murrumbidgee | C4: 1879 | D4: 1892 | E4: =(D4-C4)/C4 -> 0.0069185737 | F4: =D4/'Table 1 - ACT'!D$140 -> 0.0056639076 | G4: =C4/'Table 1 - ACT'!B$142 -> 0.029072916 | H4: =D4/'Table 1 - ACT'!B$143 -> 0.028319538
A5: Coombs | B5: Murrumbidgee | C5: 3538 | D5: 3836 | E5: =(D5-C5)/C5 -> 0.084228378 | F5: =D5/'Table 1 - ACT'!D$140 -> 0.011483483 | G5: =C5/'Table 1 - ACT'!B$142 -> 0.054741871 | H5: =D5/'Table 1 - ACT'!B$143 -> 0.057417414
A6: Coree District | B6: Murrumbidgee | C6: 232 | D6: 234 | E6: =(D6-C6)/C6 -> 0.0086206897 | F6: =D6/'Table 1 - ACT'!D$140 -> 0.00070050442 | G6: =C6/'Table 1 - ACT'!B$142 -> 0.0035896309 | H6: =D6/'Table 1 - ACT'!B$143 -> 0.0035025221
A7: Curtin | B7: Murrumbidgee | C7: 3950 | D7: 4025 | E7: =(D7-C7)/C7 -> 0.018987342 | F7: =D7/'Table 1 - ACT'!D$140 -> 0.012049275 | G7: =C7/'Table 1 - ACT'!B$142 -> 0.061116561 | H7: =D7/'Table 1 - ACT'!B$143 -> 0.060246374
A8: Deakin | B8: Murrumbidgee | C8: 2353 | D8: 2393 | E8: =(D8-C8)/C8 -> 0.016999575 | F8: =D8/'Table 1 - ACT'!D$140 -> 0.0071637055 | G8: =C8/'Table 1 - ACT'!B$142 -> 0.036406903 | H8: =D8/'Table 1 - ACT'!B$143 -> 0.035818527
A9: Denman Prospect | B9: Murrumbidgee | C9: 3598 | D9: 4325 | E9: =(D9-C9)/C9 -> 0.2020567 | F9: =D9/'Table 1 - ACT'!D$140 -> 0.012947357 | G9: =C9/'Table 1 - ACT'!B$142 -> 0.055670224 | H9: =D9/'Table 1 - ACT'!B$143 -> 0.064736787
A10: Duffy | B10: Murrumbidgee | C10: 2582 | D10: 2564 | E10: =(D10-C10)/C10 -> -0.00697134 | F10: =D10/'Table 1 - ACT'!D$140 -> 0.0076756126 | G10: =C10/'Table 1 - ACT'!B$142 -> 0.039950117 | H10: =D10/'Table 1 - ACT'!B$143 -> 0.038378063
A11: Farrer | B11: Murrumbidgee | C11: 2768 | D11: 2865 | E11: =(D11-C11)/C11 -> 0.035043353 | F11: =D11/'Table 1 - ACT'!D$140 -> 0.0085766888 | G11: =C11/'Table 1 - ACT'!B$142 -> 0.04282801 | H11: =D11/'Table 1 - ACT'!B$143 -> 0.042883444
A12: Fisher | B12: Murrumbidgee | C12: 2349 | D12: 2343 | E12: =(D12-C12)/C12 -> -0.0025542784 | F12: =D12/'Table 1 - ACT'!D$140 -> 0.0070140251 | G12: =C12/'Table 1 - ACT'!B$142 -> 0.036345013 | H12: =D12/'Table 1 - ACT'!B$143 -> 0.035070125
A13: Forrest | B13: Murrumbidgee | C13: 1544 | D13: 1620 | E13: =(D13-C13)/C13 -> 0.049222798 | F13: =D13/'Table 1 - ACT'!D$140 -> 0.004849646 | G13: =C13/'Table 1 - ACT'!B$142 -> 0.023889613 | H13: =D13/'Table 1 - ACT'!B$143 -> 0.02424823
A14: Garran | B14: Murrumbidgee | C14: 2310 | D14: 2335 | E14: =(D14-C14)/C14 -> 0.010822511 | F14: =D14/'Table 1 - ACT'!D$140 -> 0.0069900762 | G14: =C14/'Table 1 - ACT'!B$142 -> 0.035741584 | H14: =D14/'Table 1 - ACT'!B$143 -> 0.034950381
... A19: Mawson | B19: Murrumbidgee | C19: 2259 | D19: 2242 | E19: =(D19-C19)/C19 -> -0.0075254537 | F19: =D19/'Table 1 - ACT'!D$140 -> 0.0067116706 | G19: =C19/'Table 1 - ACT'!B$142 -> 0.034952484 | H19: =D19/'Table 1 - ACT'!B$143 -> 0.033558353
A20: Molonglo | B20: Murrumbidgee | C20: 0 | D20: 0 | E20: 0 | F20: =D20/'Table 1 - ACT'!D$140 -> 0 | G20: =C20/'Table 1 - ACT'!B$142 -> 0 | H20: =D20/'Table 1 - ACT'!B$143 -> 0
A21: Molonglo Valley District remainder | B21: Murrumbidgee | C21: 2 | D21: 2 | E21: =(D21-C21)/C21 -> 0 | F21: =D21/'Table 1 - ACT'!D$140 -> 5.9872173e-06 | G21: =C21/'Table 1 - ACT'!B$142 -> 3.0945094e-05 | H21: =D21/'Table 1 - ACT'!B$143 -> 2.9936086e-05
A22: O'Malley | B22: Murrumbidgee | C22: 729 | D22: 735 | E22: =(D22-C22)/C22 -> 0.0082304527 | F22: =D22/'Table 1 - ACT'!D$140 -> 0.0022003024 | G22: =C22/'Table 1 - ACT'!B$142 -> 0.011279487 | H22: =D22/'Table 1 - ACT'!B$143 -> 0.011001512
A23: Pearce | B23: Murrumbidgee | C23: 2028 | D23: 2049 | E23: =(D23-C23)/C23 -> 0.01035503 | F23: =D23/'Table 1 - ACT'!D$140 -> 0.0061339041 | G23: =C23/'Table 1 - ACT'!B$142 -> 0.031378325 | H23: =D23/'Table 1 - ACT'!B$143 -> 0.030669521
A24: Phillip | B24: Murrumbidgee | C24: 4281 | D24: 4649 | E24: =(D24-C24)/C24 -> 0.085961224 | F24: =D24/'Table 1 - ACT'!D$140 -> 0.013917287 | G24: =C24/'Table 1 - ACT'!B$142 -> 0.066237974 | H24: =D24/'Table 1 - ACT'!B$143 -> 0.069586433
A25: Red Hill | B25: Murrumbidgee | C25: 2664 | D25: 2750 | E25: =(D25-C25)/C25 -> 0.032282282 | F25: =D25/'Table 1 - ACT'!D$140 -> 0.0082324238 | G25: =C25/'Table 1 - ACT'!B$142 -> 0.041218865 | H25: =D25/'Table 1 - ACT'!B$143 -> 0.041162119
A26: Rivett | B26: Murrumbidgee | C26: 2440 | D26: 2545 | E26: =(D26-C26)/C26 -> 0.043032787 | F26: =D26/'Table 1 - ACT'!D$140 -> 0.007618734 | G26: =C26/'Table 1 - ACT'!B$142 -> 0.037753015 | H26: =D26/'Table 1 - ACT'!B$143 -> 0.03809367
A27: Stirling | B27: Murrumbidgee | C27: 1519 | D27: 1563 | E27: =(D27-C27)/C27 -> 0.028966425 | F27: =D27/'Table 1 - ACT'!D$140 -> 0.0046790103 | G27: =C27/'Table 1 - ACT'!B$142 -> 0.023502799 | H27: =D27/'Table 1 - ACT'!B$143 -> 0.023395052
A28: Stromlo District | B28: Murrumbidgee | C28: 30 | D28: 30 | E28: =(D28-C28)/C28 -> 0 | F28: =D28/'Table 1 - ACT'!D$140 -> 8.9808259e-05 | G28: =C28/'Table 1 - ACT'!B$142 -> 0.00046417641 | H28: =D28/'Table 1 - ACT'!B$143 -> 0.0004490413
A29: Torrens | B29: Murrumbidgee | C29: 1758 | D29: 1757 | E29: =(D29-C29)/C29 -> -0.00056882821 | F29: =D29/'Table 1 - ACT'!D$140 -> 0.0052597704 | G29: =C29/'Table 1 - ACT'!B$142 -> 0.027200738 | H29: =D29/'Table 1 - ACT'!B$143 -> 0.026298852
A30: Waramanga | B30: Murrumbidgee | C30: 1931 | D30: 1899 | E30: =(D30-C30)/C30 -> -0.016571724 | F30: =D30/'Table 1 - ACT'!D$140 -> 0.0056848628 | G30: =C30/'Table 1 - ACT'!B$142 -> 0.029877488 | H30: =D30/'Table 1 - ACT'!B$143 -> 0.028424314
A31: Weston | B31: Murrumbidgee | C31: 2776 | D31: 2887 | E31: =(D31-C31)/C31 -> 0.039985591 | F31: =D31/'Table 1 - ACT'!D$140 -> 0.0086425482 | G31: =C31/'Table 1 - ACT'!B$142 -> 0.042951791 | H31: =D31/'Table 1 - ACT'!B$143 -> 0.043212741
A32: Weston Creek District remainder | B32: Murrumbidgee | C32: 144 | D32: 145 | E32: =(D32-C32)/C32 -> 0.0069444444 | F32: =D32/'Table 1 - ACT'!D$140 -> 0.00043407325 | G32: =C32/'Table 1 - ACT'!B$142 -> 0.0022280468 | H32: =D32/'Table 1 - ACT'!B$143 -> 0.0021703663
A33: Whitlam | B33: Murrumbidgee | C33: 1289 | D33: 2028 | E33: =(D33-C33)/C33 -> 0.57331265 | F33: =D33/'Table 1 - ACT'!D$140 -> 0.0060710383 | G33: =C33/'Table 1 - ACT'!B$142 -> 0.019944113 | H33: =D33/'Table 1 - ACT'!B$143 -> 0.030355192
A34: Woden Valley District remainder | B34: Murrumbidgee | C34: 0 | D34: 0 | E34: 0 | F34: =D34/'Table 1 - ACT'!D$140 -> 0 | G34: =C34/'Table 1 - ACT'!B$142 -> 0 | H34: =D34/'Table 1 - ACT'!B$143 -> 0
A35: Wright | B35: Murrumbidgee | C35: 2737 | D35: 2879 | E35: =(D35-C35)/C35 -> 0.051881622 | F35: =D35/'Table 1 - ACT'!D$140 -> 0.0086185993 | G35: =C35/'Table 1 - ACT'!B$142 -> 0.042348361 | H35: =D35/'Table 1 - ACT'!B$143 -> 0.043092996
A36: Yarralumla | B36: Murrumbidgee | C36: 2457 | D36: 2459 | E36: =(D36-C36)/C36 -> 0.00081400081 | F36: =D36/'Table 1 - ACT'!D$140 -> 0.0073612837 | G36: =C36/'Table 1 - ACT'!B$142 -> 0.038016048 | H36: =D36/'Table 1 - ACT'!B$143 -> 0.036806418
A37: Total | C37: =SUM(C3:C36) -> 66597 | D37: =SUM(D3:D36) -> 69596 | E37: =(D37-C37)/C37 -> 0.045032059 | F37: =D37/'Table 1 - ACT'!D$140 -> 0.20834319

Sheet Table 6 - Yerrabi
A1: Locality | B1: Current electorate | C1: Actual persons enrolled 31 Aug 2026 | D1: Projected persons enrolled 21 Oct 2028 | E1: Percentage Change | F1: Projected proportion of the ACT | G1: % of Current quota | H1: % of Projected quota
A3: Amaroo | B3: Yerrabi | C3: 4074 | D3: 4168 | E3: =(D3-C3)/C3 -> 0.023073147 | F3: =D3/'Table 1 - ACT'!D$140 -> 0.012477361 | G3: =C3/'Table 1 - ACT'!B$142 -> 0.063035157 | H3: =D3/'Table 1 - ACT'!B$143 -> 0.062386804
A4: Bonner | B4: Yerrabi | C4: 4088 | D4: 4188 | E4: =(D4-C4)/C4 -> 0.02446184 | F4: =D4/'Table 1 - ACT'!D$140 -> 0.012537233 | G4: =C4/'Table 1 - ACT'!B$142 -> 0.063251772 | H4: =D4/'Table 1 - ACT'!B$143 -> 0.062686165
A5: Casey | B5: Yerrabi | C5: 4100 | D5: 4245 | E5: =(D5-C5)/C5 -> 0.035365854 | F5: =D5/'Table 1 - ACT'!D$140 -> 0.012707869 | G5: =C5/'Table 1 - ACT'!B$142 -> 0.063437443 | H5: =D5/'Table 1 - ACT'!B$143 -> 0.063539344
A6: Crace | B6: Yerrabi | C6: 2957 | D6: 3044 | E6: =(D6-C6)/C6 -> 0.029421711 | F6: =D6/'Table 1 - ACT'!D$140 -> 0.0091125447 | G6: =C6/'Table 1 - ACT'!B$142 -> 0.045752322 | H6: =D6/'Table 1 - ACT'!B$143 -> 0.045562724
A7: Forde | B7: Yerrabi | C7: 2848 | D7: 2962 | E7: =(D7-C7)/C7 -> 0.04002809 | F7: =D7/'Table 1 - ACT'!D$140 -> 0.0088670688 | G7: =C7/'Table 1 - ACT'!B$142 -> 0.044065814 | H7: =D7/'Table 1 - ACT'!B$143 -> 0.044335344
A8: Franklin | B8: Yerrabi | C8: 3768 | D8: 3770 | E8: =(D8-C8)/C8 -> 0.00053078556 | F8: =D8/'Table 1 - ACT'!D$140 -> 0.011285905 | G8: =C8/'Table 1 - ACT'!B$142 -> 0.058300557 | H8: =D8/'Table 1 - ACT'!B$143 -> 0.056429523
A9: Giralang | B9: Yerrabi | C9: 2490 | D9: 2472 | E9: =(D9-C9)/C9 -> -0.0072289157 | F9: =D9/'Table 1 - ACT'!D$140 -> 0.0074002006 | G9: =C9/'Table 1 - ACT'!B$142 -> 0.038526642 | H9: =D9/'Table 1 - ACT'!B$143 -> 0.037001003
A10: Gungahlin | B10: Yerrabi | C10: 5165 | D10: 5594 | E10: =(D10-C10)/C10 -> 0.083059051 | F10: =D10/'Table 1 - ACT'!D$140 -> 0.016746247 | G10: =C10/'Table 1 - ACT'!B$142 -> 0.079915706 | H10: =D10/'Table 1 - ACT'!B$143 -> 0.083731234
A11: Gungahlin District remainder 1 | B11: Yerrabi | C11: 0 | D11: 0 | E11: 0 | F11: =D11/'Table 1 - ACT'!D$140 -> 0 | G11: =C11/'Table 1 - ACT'!B$142 -> 0 | H11: =D11/'Table 1 - ACT'!B$143 -> 0
A12: Gungahlin District remainder 2 | B12: Yerrabi | C12: 4 | D12: 4 | E12: =(D12-C12)/C12 -> 0 | F12: =D12/'Table 1 - ACT'!D$140 -> 1.1974435e-05 | G12: =C12/'Table 1 - ACT'!B$142 -> 6.1890188e-05 | H12: =D12/'Table 1 - ACT'!B$143 -> 5.9872173e-05
A13: Gungahlin District remainder 3 | B13: Yerrabi | C13: 0 | D13: 0 | E13: 0 | F13: =D13/'Table 1 - ACT'!D$140 -> 0 | G13: =C13/'Table 1 - ACT'!B$142 -> 0 | H13: =D13/'Table 1 - ACT'!B$143 -> 0
A14: Hall | B14: Yerrabi | C14: 247 | D14: 234 | E14: =(D14-C14)/C14 -> -0.052631579 | F14: =D14/'Table 1 - ACT'!D$140 -> 0.00070050442 | G14: =C14/'Table 1 - ACT'!B$142 -> 0.0038217191 | H14: =D14/'Table 1 - ACT'!B$143 -> 0.0035025221
A15: Harrison | B15: Yerrabi | C15: 4509 | D15: 4508 | E15: =(D15-C15)/C15 -> -0.00022177866 | F15: =D15/'Table 1 - ACT'!D$140 -> 0.013495188 | G15: =C15/'Table 1 - ACT'!B$142 -> 0.069765715 | H15: =D15/'Table 1 - ACT'!B$143 -> 0.067475939
A16: Jacka | B16: Yerrabi | C16: 462 | D16: 504 | E16: =(D16-C16)/C16 -> 0.090909091 | F16: =D16/'Table 1 - ACT'!D$140 -> 0.0015087788 | G16: =C16/'Table 1 - ACT'!B$142 -> 0.0071483167 | H16: =D16/'Table 1 - ACT'!B$143 -> 0.0075438938
A17: Kaleen | B17: Yerrabi | C17: 5424 | D17: 5432 | E17: =(D17-C17)/C17 -> 0.0014749263 | F17: =D17/'Table 1 - ACT'!D$140 -> 0.016261282 | G17: =C17/'Table 1 - ACT'!B$142 -> 0.083923095 | H17: =D17/'Table 1 - ACT'!B$143 -> 0.081306411
A18: Mitchell | B18: Yerrabi | C18: 1 | D18: 1 | E18: =(D18-C18)/C18 -> 0 | F18: =D18/'Table 1 - ACT'!D$140 -> 2.9936086e-06 | G18: =C18/'Table 1 - ACT'!B$142 -> 1.5472547e-05 | H18: =D18/'Table 1 - ACT'!B$143 -> 1.4968043e-05
A19: Moncrieff | B19: Yerrabi | C19: 2863 | D19: 3178 | E19: =(D19-C19)/C19 -> 0.11002445 | F19: =D19/'Table 1 - ACT'!D$140 -> 0.0095136883 | G19: =C19/'Table 1 - ACT'!B$142 -> 0.044297902 | H19: =D19/'Table 1 - ACT'!B$143 -> 0.047568441
A20: Ngunnawal | B20: Yerrabi | C20: 7320 | D20: 7440 | E20: =(D20-C20)/C20 -> 0.016393443 | F20: =D20/'Table 1 - ACT'!D$140 -> 0.022272448 | G20: =C20/'Table 1 - ACT'!B$142 -> 0.11325904 | H20: =D20/'Table 1 - ACT'!B$143 -> 0.11136224
A21: Nicholls | B21: Yerrabi | C21: 4951 | D21: 4999 | E21: =(D21-C21)/C21 -> 0.0096950111 | F21: =D21/'Table 1 - ACT'!D$140 -> 0.01496505 | G21: =C21/'Table 1 - ACT'!B$142 -> 0.07660458 | H21: =D21/'Table 1 - ACT'!B$143 -> 0.074825248
A22: Palmerston | B22: Yerrabi | C22: 3867 | D22: 3914 | E22: =(D22-C22)/C22 -> 0.012154125 | F22: =D22/'Table 1 - ACT'!D$140 -> 0.011716984 | G22: =C22/'Table 1 - ACT'!B$142 -> 0.059832339 | H22: =D22/'Table 1 - ACT'!B$143 -> 0.058584921
A23: Taylor | B23: Yerrabi | C23: 3679 | D23: 4664 | E23: =(D23-C23)/C23 -> 0.2677358 | F23: =D23/'Table 1 - ACT'!D$140 -> 0.013962191 | G23: =C23/'Table 1 - ACT'!B$142 -> 0.056923501 | H23: =D23/'Table 1 - ACT'!B$143 -> 0.069810954
A24: Throsby | B24: Yerrabi | C24: 1838 | D24: 2010 | E24: =(D24-C24)/C24 -> 0.093579978 | F24: =D24/'Table 1 - ACT'!D$140 -> 0.0060171534 | G24: =C24/'Table 1 - ACT'!B$142 -> 0.028438541 | H24: =D24/'Table 1 - ACT'!B$143 -> 0.030085767
A25: Total | C25: =SUM(C3:C24) -> 64655 | D25: =SUM(D3:D24) -> 67331 | E25: =(D25-C25)/C25 -> 0.04138891 | F25: =D25/'Table 1 - ACT'!D$140 -> 0.20156266
